BEGIN:VCALENDAR
VERSION:2.0
PRODID:jazz-concerts.com
METHOD:PUBLISH
SEQUENCE:1776673869
BEGIN:VEVENT
UID:jazz-concerts.com-1-42718
DTSTAMP:20260420T103109
DTSTART:20260924T203000
DTEND:20260924T223000
SUMMARY:Session Opener
LOCATION:Jazzkeller Krefeld Lohstraße 92\, 47798 Krefeld\, Deutschland
DESCRIPTION:Tickets / Eintrittskarten: https://jazz-concerts.com/de/event/42718\n\nSession Opener\n\n
END:VEVENT
END:VCALENDAR
