BEGIN:VCALENDAR
VERSION:2.0
PRODID:jazz-concerts.com
METHOD:PUBLISH
SEQUENCE:1776617010
BEGIN:VEVENT
UID:jazz-concerts.com-1-42729
DTSTAMP:20260419T184330
DTSTART:20260602T210000
DTEND:20260602T230000
SUMMARY:Round midnight and beyond
LOCATION:Jazzclub-Kunstfabrik Schlot Invalidenstraße 117\, 10115 Berlin\, Deutschland
DESCRIPTION:Tickets / Eintrittskarten: https://jazz-concerts.com/de/event/42729\n\nRound midnight and beyond\nWir nennen uns „Sassy & Unscripted“\, und unsere Musik ist genau das – frech und improvisiert. Sassy und Unscripted präsentiert einen Abend voller Jazz-Standards im bekannten Gewand und neu interpretiert.\n\nMit emotionaler Intensität\, spielerischer Spontaneität und starken Solomomenten lädt Sassy und Unscripted zu einem Abend ein\, der Genregrenzen charmant ignoriert und Musik in all ihren Facetten feiert.\n
END:VEVENT
END:VCALENDAR
