BEGIN:VCALENDAR
VERSION:2.0
PRODID:jazz-concerts.com
METHOD:PUBLISH
SEQUENCE:1776621830
BEGIN:VEVENT
UID:jazz-concerts.com-1-42731
DTSTAMP:20260419T200350
DTSTART:20260609T200000
DTEND:20260609T220000
SUMMARY:Jazz Session
LOCATION:U Bar Urbanstraße 64\, 10967 Berlin\, Deutschland
DESCRIPTION:Tickets / Eintrittskarten: https://jazz-concerts.com/de/event/42731\n\nJazz Session\n\n
END:VEVENT
END:VCALENDAR
