BEGIN:VCALENDAR
VERSION:2.0
PRODID:jazz-concerts.com
METHOD:PUBLISH
SEQUENCE:1776628212
BEGIN:VEVENT
UID:jazz-concerts.com-1-42742
DTSTAMP:20260419T215012
DTSTART:20260424T160000
DTEND:20260424T180000
SUMMARY:Conic Rose
LOCATION:Museum Tinguely Paul Sacher-Anlage 2\, 4002 Basel\, Schweiz
DESCRIPTION:Tickets / Eintrittskarten: https://jazz-concerts.com/de/event/42742\n\nConic Rose\n\n
END:VEVENT
END:VCALENDAR
