BEGIN:VCALENDAR
VERSION:2.0
PRODID:jazz-concerts.com
METHOD:PUBLISH
SEQUENCE:1776621838
BEGIN:VEVENT
UID:jazz-concerts.com-1-42904
DTSTAMP:20260419T200358
DTSTART:20261011T210000
DTEND:20261011T230000
SUMMARY:Moonlight Mass
LOCATION:Augustinerkirche Dominikanergasse\, 97070 Würzburg\, Deutschland
DESCRIPTION:Tickets / Eintrittskarten: https://jazz-concerts.com/de/event/42904\n\nMoonlight Mass\nAnstatt einen feinsäuberlichen Trennstrich zwischen den Stilen zu ziehen\, entsteht durch die scheinbar unpassende Kombination von klassischem Akkordeon und Jazzsaxophon eine Win-Win-Situation\, in der die unterschiedlichen musikalischen Herangehensweisen hörbar voneinander profitieren.\nWerke von Komponisten aus Klassik und Jazz interpretiert das Duo in völlig neuen eigenen Bearbeitungen\, durch die die Stücke verstärkt in das Spannungsfeld der Stile gerückt werden. Ergänzt wird das Repertoire durch zahlreiche Eigenkompositionen\, die dieselbe Inspiration in sich tragen.\n
END:VEVENT
END:VCALENDAR
