BEGIN:VCALENDAR
VERSION:2.0
PRODID:jazz-concerts.com
METHOD:PUBLISH
SEQUENCE:1776611950
BEGIN:VEVENT
UID:jazz-concerts.com-1-42922
DTSTAMP:20260419T171910
DTSTART:20260424T194500
DTEND:20260424T214500
SUMMARY:Sara Alden
LOCATION:Das Schiff No. 2 Bremen\, Deutschland
DESCRIPTION:Tickets / Eintrittskarten: https://jazz-concerts.com/de/event/42922\n\nSara Alden\n\n
END:VEVENT
END:VCALENDAR
