BEGIN:VCALENDAR
VERSION:2.0
PRODID:jazz-concerts.com
METHOD:PUBLISH
SEQUENCE:1776646547
BEGIN:VEVENT
UID:jazz-concerts.com-1-42949
DTSTAMP:20260420T025547
DTSTART:20260426T200000
DTEND:20260426T220000
SUMMARY:Makaya McCraven
LOCATION:Higher Ground Williston Road 1214\, 05403 South Burlington\, USA
DESCRIPTION:Tickets / Eintrittskarten: https://jazz-concerts.com/de/event/42949\n\nMakaya McCraven\n\n
END:VEVENT
END:VCALENDAR
