BEGIN:VCALENDAR
VERSION:2.0
PRODID:jazz-concerts.com
METHOD:PUBLISH
SEQUENCE:1776628201
BEGIN:VEVENT
UID:jazz-concerts.com-1-42961
DTSTAMP:20260419T215001
DTSTART:20260703T000000
DTEND:20260703T020000
SUMMARY:Nussbrod
LOCATION:Jazz-Club Hürth e.V. Hermülheimer Straße 12-14\, 50354 Hürth\, Deutschland
DESCRIPTION:Tickets / Eintrittskarten: https://jazz-concerts.com/de/event/42961\n\nNussbrod\n\n
END:VEVENT
END:VCALENDAR
