BEGIN:VCALENDAR
VERSION:2.0
PRODID:jazz-concerts.com
METHOD:PUBLISH
SEQUENCE:1776627432
BEGIN:VEVENT
UID:jazz-concerts.com-1-42971
DTSTAMP:20260419T213712
DTSTART:20260726T210000
DTEND:20260726T230000
SUMMARY:Camilla George
LOCATION:l'Astrada Chemin de Ronde 53\, 32230 Marciac\, Frankreich
DESCRIPTION:Tickets / Eintrittskarten: https://jazz-concerts.com/de/event/42971\n\nCamilla George\n\n
END:VEVENT
END:VCALENDAR
