BEGIN:VCALENDAR
VERSION:2.0
PRODID:jazz-concerts.com
METHOD:PUBLISH
SEQUENCE:1776626798
BEGIN:VEVENT
UID:jazz-concerts.com-1-42991
DTSTAMP:20260419T212638
DTSTART:20260428T203000
DTEND:20260428T223000
SUMMARY:Michel Camilo Trio
LOCATION:Blue Note Tokyo 107-0062 Minato City\, Japan
DESCRIPTION:Tickets / Eintrittskarten: https://jazz-concerts.com/de/event/42991\n\nMichel Camilo Trio\n\n
END:VEVENT
END:VCALENDAR
