BEGIN:VCALENDAR
VERSION:2.0
PRODID:jazz-concerts.com
METHOD:PUBLISH
SEQUENCE:1776621813
BEGIN:VEVENT
UID:jazz-concerts.com-1-42995
DTSTAMP:20260419T200333
DTSTART:20260426T193000
DTEND:20260426T213000
SUMMARY:Michel Camilo Trio
LOCATION:Blue Note Tokyo 107-0062 Minato City\, Japan
DESCRIPTION:Tickets / Eintrittskarten: https://jazz-concerts.com/de/event/42995\n\nMichel Camilo Trio\n\n
END:VEVENT
END:VCALENDAR
