BEGIN:VCALENDAR
VERSION:2.0
PRODID:jazz-concerts.com
METHOD:PUBLISH
SEQUENCE:1776617597
BEGIN:VEVENT
UID:jazz-concerts.com-1-43008
DTSTAMP:20260419T185317
DTSTART:20260507T180000
DTEND:20260507T200000
SUMMARY:The Hot Sardines
LOCATION:Blue Note Tokyo 107-0062 Minato City\, Japan
DESCRIPTION:Tickets / Eintrittskarten: https://jazz-concerts.com/de/event/43008\n\nThe Hot Sardines\n\n
END:VEVENT
END:VCALENDAR
