BEGIN:VCALENDAR
VERSION:2.0
PRODID:jazz-concerts.com
METHOD:PUBLISH
SEQUENCE:1776651369
BEGIN:VEVENT
UID:jazz-concerts.com-1-43025
DTSTAMP:20260420T041609
DTSTART:20260525T203000
DTEND:20260525T223000
SUMMARY:Arturo Sandoval
LOCATION:Blue Note Tokyo 107-0062 Minato City\, Japan
DESCRIPTION:Tickets / Eintrittskarten: https://jazz-concerts.com/de/event/43025\n\nArturo Sandoval\n\n
END:VEVENT
END:VCALENDAR
