BEGIN:VCALENDAR
VERSION:2.0
PRODID:jazz-concerts.com
METHOD:PUBLISH
SEQUENCE:1776618466
BEGIN:VEVENT
UID:jazz-concerts.com-1-43037
DTSTAMP:20260419T190746
DTSTART:20260531T193000
DTEND:20260531T213000
SUMMARY:Dee Dee Bridgewater & Bill Charlap
LOCATION:Blue Note Tokyo 107-0062 Minato City\, Japan
DESCRIPTION:Tickets / Eintrittskarten: https://jazz-concerts.com/de/event/43037\n\nDee Dee Bridgewater & Bill Charlap\n\n
END:VEVENT
END:VCALENDAR
