BEGIN:VCALENDAR
VERSION:2.0
PRODID:jazz-concerts.com
METHOD:PUBLISH
SEQUENCE:1776621814
BEGIN:VEVENT
UID:jazz-concerts.com-1-43046
DTSTAMP:20260419T200334
DTSTART:20260606T163000
DTEND:20260606T183000
SUMMARY:Chris Botti
LOCATION:Blue Note Tokyo 107-0062 Minato City\, Japan
DESCRIPTION:Tickets / Eintrittskarten: https://jazz-concerts.com/de/event/43046\n\nChris Botti\n\n
END:VEVENT
END:VCALENDAR
