BEGIN:VCALENDAR
VERSION:2.0
PRODID:jazz-concerts.com
METHOD:PUBLISH
SEQUENCE:1776612755
BEGIN:VEVENT
UID:jazz-concerts.com-1-43055
DTSTAMP:20260419T173235
DTSTART:20260425T200000
DTEND:20260425T220000
SUMMARY:Nyckelharpa-Konzert im Passauer Café Museum
LOCATION:Cafe Museum Bräugasse 17\, 94032 Passau\, Deutschland
DESCRIPTION:Tickets / Eintrittskarten: https://jazz-concerts.com/de/event/43055\n\nNyckelharpa-Konzert im Passauer Café Museum\nZodheimr\, der in Cairo geboren ist\, gilt als aufstrebender Komponist und Musiker. Am 25.4. um 20.00 spielt er im Passauer Café Museum experimentelle Klassik und Folk in einem Solo-Live-Konzert auf der Nyckelharpa. \nDas Set umfasst Originalkompositionen von Zodheimr\, sowie Mock-up-Orchestrierungen und intime klassische Arrangements\, die Naturklänge\, elektronische Texturen und den rohen Klang des Instruments miteinander verbinden. \nDieses Konzert ist eine Vorschau auf Zodheimrs kommendes Album „The Forest Curtains“.\nReservierung unter www.cafe-museum.de\n
END:VEVENT
END:VCALENDAR
