BEGIN:VCALENDAR
VERSION:2.0
PRODID:jazz-concerts.com
METHOD:PUBLISH
SEQUENCE:1776628211
BEGIN:VEVENT
UID:jazz-concerts.com-1-43059
DTSTAMP:20260419T215011
DTSTART:20260615T180000
DTEND:20260615T200000
SUMMARY:Veronica Swift
LOCATION:Blue Note Tokyo 107-0062 Minato City\, Japan
DESCRIPTION:Tickets / Eintrittskarten: https://jazz-concerts.com/de/event/43059\n\nVeronica Swift\n\n
END:VEVENT
END:VCALENDAR
