BEGIN:VCALENDAR
VERSION:2.0
PRODID:jazz-concerts.com
METHOD:PUBLISH
SEQUENCE:1776640560
BEGIN:VEVENT
UID:jazz-concerts.com-1-43063
DTSTAMP:20260420T011600
DTSTART:20260617T180000
DTEND:20260617T200000
SUMMARY:Makaya McCraven
LOCATION:Blue Note Tokyo 107-0062 Minato City\, Japan
DESCRIPTION:Tickets / Eintrittskarten: https://jazz-concerts.com/de/event/43063\n\nMakaya McCraven\n\n
END:VEVENT
END:VCALENDAR
