BEGIN:VCALENDAR
VERSION:2.0
PRODID:jazz-concerts.com
METHOD:PUBLISH
SEQUENCE:1776640535
BEGIN:VEVENT
UID:jazz-concerts.com-1-43066
DTSTAMP:20260420T011535
DTSTART:20260618T203000
DTEND:20260618T223000
SUMMARY:Makaya McCraven
LOCATION:Blue Note Tokyo 107-0062 Minato City\, Japan
DESCRIPTION:Tickets / Eintrittskarten: https://jazz-concerts.com/de/event/43066\n\nMakaya McCraven\n\n
END:VEVENT
END:VCALENDAR
