BEGIN:VCALENDAR
VERSION:2.0
PRODID:jazz-concerts.com
METHOD:PUBLISH
SEQUENCE:1776635559
BEGIN:VEVENT
UID:jazz-concerts.com-1-43115
DTSTAMP:20260419T235239
DTSTART:20261014T193000
DTEND:20261014T213000
SUMMARY:Upper Austrian Jazz Orchestra
LOCATION:Brucknerhaus Linz Untere Donaulände 7\, 4010 Linz\, Österreich
DESCRIPTION:Tickets / Eintrittskarten: https://jazz-concerts.com/de/event/43115\n\nUpper Austrian Jazz Orchestra\n\n
END:VEVENT
END:VCALENDAR
