BEGIN:VCALENDAR
VERSION:2.0
PRODID:jazz-concerts.com
METHOD:PUBLISH
SEQUENCE:1776617003
BEGIN:VEVENT
UID:jazz-concerts.com-1-43220
DTSTAMP:20260419T184323
DTSTART:20260510T170000
DTEND:20260510T190000
SUMMARY:Avishai Cohen Trio
LOCATION:Centralstation Im Carree 1\, 64283 Darmstadt\, Deutschland
DESCRIPTION:Tickets / Eintrittskarten: https://jazz-concerts.com/de/event/43220\n\nAvishai Cohen Trio\n\n
END:VEVENT
END:VCALENDAR
