BEGIN:VCALENDAR
VERSION:2.0
PRODID:jazz-concerts.com
METHOD:PUBLISH
SEQUENCE:1776618434
BEGIN:VEVENT
UID:jazz-concerts.com-1-43231
DTSTAMP:20260419T190714
DTSTART:20261030T200000
DTEND:20261030T220000
SUMMARY:Avishai Cohen Trio
LOCATION:Stadsschouwburg Antwerpen Nieuwstad 1\, 2000 Antwerpen\, Belgien
DESCRIPTION:Tickets / Eintrittskarten: https://jazz-concerts.com/de/event/43231\n\nAvishai Cohen Trio\n\n
END:VEVENT
END:VCALENDAR
