BEGIN:VCALENDAR
VERSION:2.0
PRODID:jazz-concerts.com
METHOD:PUBLISH
SEQUENCE:1776612756
BEGIN:VEVENT
UID:jazz-concerts.com-1-43235
DTSTAMP:20260419T173236
DTSTART:20260424T180000
DTEND:20260424T200000
SUMMARY:Kristina Brodersen - KRISTINA 4
LOCATION:Kulturzentrum Schlachthof e. V. Findorffstraße 51\, 28215 Bremen\, Deutschland
DESCRIPTION:Tickets / Eintrittskarten: https://jazz-concerts.com/de/event/43235\n\nKristina Brodersen - KRISTINA 4\n\n
END:VEVENT
END:VCALENDAR
