BEGIN:VCALENDAR
VERSION:2.0
PRODID:jazz-concerts.com
METHOD:PUBLISH
SEQUENCE:1776671576
BEGIN:VEVENT
UID:jazz-concerts.com-1-43249
DTSTAMP:20260420T095256
DTSTART:20260425T220000
DTEND:20260426T000000
SUMMARY:Kyle Roussel "Church of New Orleans"with Erica Falls
LOCATION:Snug Harbor Jazz Bistro Frenchmen Street 626\, 70116 New Orleans\, USA
DESCRIPTION:Tickets / Eintrittskarten: https://jazz-concerts.com/de/event/43249\n\nKyle Roussel "Church of New Orleans"with Erica Falls\n\n
END:VEVENT
END:VCALENDAR
