BEGIN:VCALENDAR
VERSION:2.0
PRODID:jazz-concerts.com
METHOD:PUBLISH
SEQUENCE:1776654421
BEGIN:VEVENT
UID:jazz-concerts.com-1-43265
DTSTAMP:20260420T050701
DTSTART:20260502T220000
DTEND:20260503T000000
SUMMARY:Herlin Riley Quartet with Weedie Braimah and Special Guests
LOCATION:Snug Harbor Jazz Bistro Frenchmen Street 626\, 70116 New Orleans\, USA
DESCRIPTION:Tickets / Eintrittskarten: https://jazz-concerts.com/de/event/43265\n\nHerlin Riley Quartet with Weedie Braimah and Special Guests\n\n
END:VEVENT
END:VCALENDAR
