BEGIN:VCALENDAR
VERSION:2.0
PRODID:jazz-concerts.com
METHOD:PUBLISH
SEQUENCE:1776697639
BEGIN:VEVENT
UID:jazz-concerts.com-1-43273
DTSTAMP:20260420T170719
DTSTART:20261127T193000
DTEND:20261127T213000
SUMMARY:Rebekka Bakken
LOCATION:Peterskirche Schletterstraße 5\, 04107 Leipzig\, Deutschland
DESCRIPTION:Tickets / Eintrittskarten: https://jazz-concerts.com/de/event/43273\n\nRebekka Bakken\n\n
END:VEVENT
END:VCALENDAR
