BEGIN:VCALENDAR
VERSION:2.0
PRODID:jazz-concerts.com
METHOD:PUBLISH
SEQUENCE:1776697637
BEGIN:VEVENT
UID:jazz-concerts.com-1-43278
DTSTAMP:20260420T170717
DTSTART:20261027T193000
DTEND:20261027T213000
SUMMARY:Rebekka Bakken
LOCATION:Brucknerhaus Linz Untere Donaulände 7\, 4010 Linz\, Österreich
DESCRIPTION:Tickets / Eintrittskarten: https://jazz-concerts.com/de/event/43278\n\nRebekka Bakken\n\n
END:VEVENT
END:VCALENDAR
