BEGIN:VCALENDAR
VERSION:2.0
PRODID:jazz-concerts.com
METHOD:PUBLISH
SEQUENCE:1776695524
BEGIN:VEVENT
UID:jazz-concerts.com-1-43279
DTSTAMP:20260420T163204
DTSTART:20260525T203000
DTEND:20260525T223000
SUMMARY:Rebekka Bakken
LOCATION:Kino Im Burghof Burggasse 8\, 9020 Innere Stadt\, Österreich
DESCRIPTION:Tickets / Eintrittskarten: https://jazz-concerts.com/de/event/43279\n\nRebekka Bakken\n\n
END:VEVENT
END:VCALENDAR
