BEGIN:VCALENDAR
VERSION:2.0
PRODID:jazz-concerts.com
METHOD:PUBLISH
SEQUENCE:1776702205
BEGIN:VEVENT
UID:jazz-concerts.com-1-43280
DTSTAMP:20260420T182325
DTSTART:20260703T200000
DTEND:20260703T220000
SUMMARY:Rebekka Bakken
LOCATION:Dreieinigkeitskirche - Evangelisch-Lutherische Kirchengemeinde Nürnberg - Dreieinigkeitskirche Glockendonstraße 15\, 90429 Nürnberg\, Deutschland
DESCRIPTION:Tickets / Eintrittskarten: https://jazz-concerts.com/de/event/43280\n\nRebekka Bakken\n\n
END:VEVENT
END:VCALENDAR
