BEGIN:VCALENDAR
VERSION:2.0
PRODID:jazz-concerts.com
METHOD:PUBLISH
SEQUENCE:1776708182
BEGIN:VEVENT
UID:jazz-concerts.com-1-43281
DTSTAMP:20260420T200302
DTSTART:20260704T200000
DTEND:20260704T220000
SUMMARY:Rebekka Bakken
LOCATION:Dreieinigkeitskirche - Evangelisch-Lutherische Kirchengemeinde Nürnberg - Dreieinigkeitskirche Glockendonstraße 15\, 90429 Nürnberg\, Deutschland
DESCRIPTION:Tickets / Eintrittskarten: https://jazz-concerts.com/de/event/43281\n\nRebekka Bakken\n\n
END:VEVENT
END:VCALENDAR
