BEGIN:VCALENDAR
VERSION:2.0
PRODID:jazz-concerts.com
METHOD:PUBLISH
SEQUENCE:1776708296
BEGIN:VEVENT
UID:jazz-concerts.com-1-43286
DTSTAMP:20260420T200456
DTSTART:20261219T200000
DTEND:20261219T220000
SUMMARY:Rebekka Bakken
LOCATION:Münsterkirche - Ev.-Luth. Kirchengemeinde Herford-Mitte Münsterkirchplatz 4\, 32052 Herford\, Deutschland
DESCRIPTION:Tickets / Eintrittskarten: https://jazz-concerts.com/de/event/43286\n\nRebekka Bakken\n\n
END:VEVENT
END:VCALENDAR
