BEGIN:VCALENDAR
VERSION:2.0
PRODID:jazz-concerts.com
METHOD:PUBLISH
SEQUENCE:1776685399
BEGIN:VEVENT
UID:jazz-concerts.com-1-43287
DTSTAMP:20260420T134319
DTSTART:20260424T203000
DTEND:20260424T223000
SUMMARY:Four Again
LOCATION:Jazzclub Ludwigsburg Bahnhofstraße 19\, 71638 Ludwigsburg\, Deutschland
DESCRIPTION:Tickets / Eintrittskarten: https://jazz-concerts.com/de/event/43287\n\nFour Again\nDer Name der Band ist weniger der Zahl der Mitglieder geschuldet als der Aufschrift 4 an einem Tor neben dem damaligen Proberaum.
Über 30 Jahre nach der leider nur kurzen Existenz des Quartetts kam die Idee wieder gemeinsam auf die Bühne zu gehen\, mit einem neuen und wohlbekannten Bassisten. Jeder der beteiligten Musiker hat über die Jahre seinen Platz in der Jazzszene gefunden.
FOUR gab es schon einmal – vor 33 Jahren! Und jetzt gibt es die Reunion!
FOUR spielen Jazz-Standards – melodiös und rhythmisch\, sanft und energisch\, eingängig und abwechslungsreich\, Bekanntes und Unbekanntes – mit Trompete\, Gitarre\, Kontrabass und Schlagzeug. Das Publikum darf sich auf einen abwechslungsreichen Abend mit Bop\, Bossa und Ballads freuen.\n
END:VEVENT
END:VCALENDAR
