BEGIN:VCALENDAR
VERSION:2.0
PRODID:jazz-concerts.com
METHOD:PUBLISH
SEQUENCE:1776696249
BEGIN:VEVENT
UID:jazz-concerts.com-1-43288
DTSTAMP:20260420T164409
DTSTART:20260501T203000
DTEND:20260501T223000
SUMMARY:Women in Swing
LOCATION:Jazzclub Ludwigsburg Bahnhofstraße 19\, 71638 Ludwigsburg\, Deutschland
DESCRIPTION:Tickets / Eintrittskarten: https://jazz-concerts.com/de/event/43288\n\nWomen in Swing\n\n
END:VEVENT
END:VCALENDAR
