BEGIN:VCALENDAR
VERSION:2.0
PRODID:jazz-concerts.com
METHOD:PUBLISH
SEQUENCE:1776716913
BEGIN:VEVENT
UID:jazz-concerts.com-1-43294
DTSTAMP:20260420T222833
DTSTART:20260425T184000
DTEND:20260425T204000
SUMMARY:Bobby Watson Quartet
LOCATION:Ronnie Scott’s Jazz Club Frith Street 47\, W1D 4HT London\, Vereinigtes Königreich
DESCRIPTION:Tickets / Eintrittskarten: https://jazz-concerts.com/de/event/43294\n\nBobby Watson Quartet\n\n
END:VEVENT
END:VCALENDAR
