BEGIN:VCALENDAR
VERSION:2.0
PRODID:jazz-concerts.com
METHOD:PUBLISH
SEQUENCE:1776749403
BEGIN:VEVENT
UID:jazz-concerts.com-1-43296
DTSTAMP:20260421T073003
DTSTART:20260426T120000
DTEND:20260426T140000
SUMMARY:Jeff Hooper & Trio
LOCATION:Ronnie Scott’s Jazz Club Frith Street 47\, W1D 4HT London\, Vereinigtes Königreich
DESCRIPTION:Tickets / Eintrittskarten: https://jazz-concerts.com/de/event/43296\n\nJeff Hooper & Trio\n\n
END:VEVENT
END:VCALENDAR
