BEGIN:VCALENDAR
VERSION:2.0
PRODID:jazz-concerts.com
METHOD:PUBLISH
SEQUENCE:1776692906
BEGIN:VEVENT
UID:jazz-concerts.com-1-43300
DTSTAMP:20260420T154826
DTSTART:20260428T211500
DTEND:20260428T231500
SUMMARY:Bill Evans & The VansBand
LOCATION:Ronnie Scott’s Jazz Club Frith Street 47\, W1D 4HT London\, Vereinigtes Königreich
DESCRIPTION:Tickets / Eintrittskarten: https://jazz-concerts.com/de/event/43300\n\nBill Evans & The VansBand\n\n
END:VEVENT
END:VCALENDAR
