BEGIN:VCALENDAR
VERSION:2.0
PRODID:jazz-concerts.com
METHOD:PUBLISH
SEQUENCE:1776702197
BEGIN:VEVENT
UID:jazz-concerts.com-1-43303
DTSTAMP:20260420T182317
DTSTART:20260429T184000
DTEND:20260429T204000
SUMMARY:Michael Mayo - Fly
LOCATION:Ronnie Scott’s Jazz Club Frith Street 47\, W1D 4HT London\, Vereinigtes Königreich
DESCRIPTION:Tickets / Eintrittskarten: https://jazz-concerts.com/de/event/43303\n\nMichael Mayo - Fly\n\n
END:VEVENT
END:VCALENDAR
