BEGIN:VCALENDAR
VERSION:2.0
PRODID:jazz-concerts.com
METHOD:PUBLISH
SEQUENCE:1776708219
BEGIN:VEVENT
UID:jazz-concerts.com-1-43304
DTSTAMP:20260420T200339
DTSTART:20260429T211500
DTEND:20260429T231500
SUMMARY:Michael Mayo - Fly
LOCATION:Ronnie Scott’s Jazz Club Frith Street 47\, W1D 4HT London\, Vereinigtes Königreich
DESCRIPTION:Tickets / Eintrittskarten: https://jazz-concerts.com/de/event/43304\n\nMichael Mayo - Fly\n\n
END:VEVENT
END:VCALENDAR
