BEGIN:VCALENDAR
VERSION:2.0
PRODID:jazz-concerts.com
METHOD:PUBLISH
SEQUENCE:1776697658
BEGIN:VEVENT
UID:jazz-concerts.com-1-43313
DTSTAMP:20260420T170738
DTSTART:20260501T184000
DTEND:20260501T204000
SUMMARY:Ivo Neame Trio & Walter Smith III
LOCATION:Ronnie Scott’s Jazz Club Frith Street 47\, W1D 4HT London\, Vereinigtes Königreich
DESCRIPTION:Tickets / Eintrittskarten: https://jazz-concerts.com/de/event/43313\n\nIvo Neame Trio & Walter Smith III\n\n
END:VEVENT
END:VCALENDAR
