BEGIN:VCALENDAR
VERSION:2.0
PRODID:jazz-concerts.com
METHOD:PUBLISH
SEQUENCE:1776696245
BEGIN:VEVENT
UID:jazz-concerts.com-1-43318
DTSTAMP:20260420T164405
DTSTART:20260502T211500
DTEND:20260502T231500
SUMMARY:Harold Lopez-Nussa Trio
LOCATION:Ronnie Scott’s Jazz Club Frith Street 47\, W1D 4HT London\, Vereinigtes Königreich
DESCRIPTION:Tickets / Eintrittskarten: https://jazz-concerts.com/de/event/43318\n\nHarold Lopez-Nussa Trio\n\n
END:VEVENT
END:VCALENDAR
