BEGIN:VCALENDAR
VERSION:2.0
PRODID:jazz-concerts.com
METHOD:PUBLISH
SEQUENCE:1776678671
BEGIN:VEVENT
UID:jazz-concerts.com-8-1165
DTSTAMP:20260420T115111
DTSTART:20260819T000000
DTEND:20260823T000000
SUMMARY:15. Saxophon-Sommer-Workshop
LOCATION:Akademie BURG FÜRSTENECK Am Schloßgarten 3\, 36132 Eiterfeld\, Deutschland
DESCRIPTION:Info: https://jazz-concerts.com/de/workshop/1165\nWebseite: https://www.burg-fuersteneck.de/kursprogramm/musik_und_tanz/saxophon_sommer_workshop_26_10101\n\n15. Saxophon-Sommer-Workshop\n\n
END:VEVENT
END:VCALENDAR
