BEGIN:VCALENDAR
VERSION:2.0
PRODID:jazz-concerts.com
METHOD:PUBLISH
SEQUENCE:1776633633
BEGIN:VEVENT
UID:jazz-concerts.com-8-1132
DTSTAMP:20260419T232033
DTSTART:20260512T000000
DTEND:20260517T000000
SUMMARY:Jazzakademie Heek - Workshop- und Konzertwoche im westlichen Münsterland
LOCATION:Landesmusikakademie NRW e.V. Steinweg 2\, 48619 Heek\, Deutschland
DESCRIPTION:Info: https://jazz-concerts.com/de/workshop/1132\nWebseite: https://lma-nrw.de/termindaten/3042/jazzakademie-heek-workshop--und-konzertwoche-im-westlichen-muensterland/\n\nJazzakademie Heek - Workshop- und Konzertwoche im westlichen Münsterland\nAktueller Hinweis: Die Masterclasses für Jazzgesang\, Drums\, Gitarre\, Trompete und Saxofon sind derzeit vollständig belegt. Sie können sich jedoch weiterhin gerne anmelden und werden dann auf unsere Warteliste gesetzt. (Stand: 10.02.2026). Wir freuen uns noch auf Anmeldungen für Klavier und Bass!
Jazz We Do! 
Workshops\, Bands\, Masterclasses\, Diskussionen\, Konzerte und Jam-Sessions eröffnen die vielfältigen Facetten dieser Musik und laden dazu ein\, selbst zu spielen\, zu experimentieren und die eigene Kreativität zu entfalten. Im Mittelpunkt stehen Improvisation\, Zusammenspiel\, musikalische Freiheit – und vor allem die Freude am gemeinsamen Musizieren. Kurz: Jazz in seiner lebendigsten Form.
Unter der künstlerischen Leitung von Prof. Peter Weniger gestalten sieben herausragende Musiker:innen und Dozent:innen renommierter Jazzabteilungen aus Deutschland und dem internationalen Umfeld – gemeinsam mit ausgewählten Studierenden – ein inspirierendes und intensives Musikerlebnis. Zusammen feiern sie die Musik\, eröffnen neue Perspektiven und schaffen einen Raum\, in dem Lernen\, Ausprobieren und künstlerischer Ausdruck auf besondere Weise verschmelzen.\n
END:VEVENT
END:VCALENDAR
