BEGIN:VCALENDAR
VERSION:2.0
PRODID:jazz-concerts.com
METHOD:PUBLISH
SEQUENCE:1776681796
BEGIN:VEVENT
UID:jazz-concerts.com-8-1179
DTSTAMP:20260420T124316
DTSTART:20260502T000000
DTEND:20260503T000000
SUMMARY:LeJazz Weekendcursus
LOCATION:westelbeers Tilburg\, Niederlande
DESCRIPTION:Info: https://jazz-concerts.com/de/workshop/1179\nWebseite: https://www.lejazznow.nl/https://www.lejazznow.nl/workshop/weekendcursus-2-en-3-mei-2026/\n\nLeJazz Weekendcursus\n\n
END:VEVENT
END:VCALENDAR
