BEGIN:VCALENDAR
VERSION:2.0
PRODID:jazz-concerts.com
METHOD:PUBLISH
SEQUENCE:1776670316
BEGIN:VEVENT
UID:jazz-concerts.com-8-1161
DTSTAMP:20260420T093156
DTSTART:20260508T000000
DTEND:20260511T000000
SUMMARY:Modale Improvisation
LOCATION:Akademie BURG FÜRSTENECK Am Schloßgarten 3\, 36132 Eiterfeld\, Deutschland
DESCRIPTION:Info: https://jazz-concerts.com/de/workshop/1161\nWebseite: https://www.burg-fuersteneck.de/kursprogramm/musik_und_tanz/zwischen_form_und_freiheit_26_10431_1\n\nModale Improvisation\n\n
END:VEVENT
END:VCALENDAR
