BEGIN:VCALENDAR
VERSION:2.0
PRODID:jazz-concerts.com
METHOD:PUBLISH
SEQUENCE:1776627074
BEGIN:VEVENT
UID:jazz-concerts.com-8-1095
DTSTAMP:20260419T213114
DTSTART:20260414T000000
DTEND:20260512T000000
SUMMARY:Richmond Contemporary Ensemble
LOCATION:Richmond and Hillcroft Adult Community College Parkshot\, TW9 2RE Richmond\, Vereinigtes Königreich
DESCRIPTION:Info: https://jazz-concerts.com/de/workshop/1095\nWebseite: https://www.rhacc.ac.uk/course/richmond-contemporary-ensemble\n\nRichmond Contemporary Ensemble\n\n
END:VEVENT
END:VCALENDAR
