BEGIN:VCALENDAR
VERSION:2.0
PRODID:jazz-concerts.com
METHOD:PUBLISH
SEQUENCE:1776605883
BEGIN:VEVENT
UID:jazz-concerts.com-1-39125
DTSTAMP:20260419T153803
DTSTART:20260424T200000
DTEND:20260424T220000
SUMMARY:Tom Gaebel & his Orchestra
LOCATION:Kulturzentrum Herne Willi-Pohlmann-Platz 1\, 44623 Herne\, Germany
DESCRIPTION:tickets: https://jazz-concerts.com/en/event/39125\n\nTom Gaebel & his Orchestra\n\n
END:VEVENT
END:VCALENDAR
