BEGIN:VCALENDAR
VERSION:2.0
PRODID:jazz-concerts.com
METHOD:PUBLISH
SEQUENCE:1776622643
BEGIN:VEVENT
UID:jazz-concerts.com-1-39336
DTSTAMP:20260419T201723
DTSTART:20261018T200000
DTEND:20261018T220000
SUMMARY:Henrik Freischlader
LOCATION:Ampere Zellstraße 4\, 81667 München\, Germany
DESCRIPTION:tickets: https://jazz-concerts.com/en/event/39336\n\nHenrik Freischlader\n\n
END:VEVENT
END:VCALENDAR
