BEGIN:VCALENDAR
VERSION:2.0
PRODID:jazz-concerts.com
METHOD:PUBLISH
SEQUENCE:1776612776
BEGIN:VEVENT
UID:jazz-concerts.com-1-40630
DTSTAMP:20260419T173256
DTSTART:20260513T203000
DTEND:20260513T223000
SUMMARY:Ladwigs HORNS & BEAT
LOCATION:Obsthof Renner Im Winkel 15\, 78333 Stockach\, Germany
DESCRIPTION:tickets: https://jazz-concerts.com/en/event/40630\n\nLadwigs HORNS & BEAT\nEintritt frei - Austritt nach wohlfeilem Ermessen.\n
END:VEVENT
END:VCALENDAR
