BEGIN:VCALENDAR
VERSION:2.0
PRODID:jazz-concerts.com
METHOD:PUBLISH
SEQUENCE:1776605881
BEGIN:VEVENT
UID:jazz-concerts.com-1-40985
DTSTAMP:20260419T153801
DTSTART:20260423T000000
DTEND:20260423T020000
SUMMARY:Rob Luft / Jonas Westergaard / Jon Fält
LOCATION: Bonn\, Germany
DESCRIPTION:tickets: https://jazz-concerts.com/en/event/40985\n\nRob Luft / Jonas Westergaard / Jon Fält\n\n
END:VEVENT
END:VCALENDAR
