BEGIN:VCALENDAR
VERSION:2.0
PRODID:jazz-concerts.com
METHOD:PUBLISH
SEQUENCE:1776612834
BEGIN:VEVENT
UID:jazz-concerts.com-1-41892
DTSTAMP:20260419T173354
DTSTART:20260424T190000
DTEND:20260424T210000
SUMMARY:Ulysses Owens Jr. & Generation Y
LOCATION:SFJAZZ Franklin Street 201\, 94102 San Francisco\, United States
DESCRIPTION:tickets: https://jazz-concerts.com/en/event/41892\n\nUlysses Owens Jr. & Generation Y\n\n
END:VEVENT
END:VCALENDAR
